Workbook

Sheet Кадры
A2: Наименование ОО | B2: кол-во педагогов | C2: квалификационная категория педагогов, % (согласно ОО-1) | G2: Конкурсы педагогического мастерства 2025/2026 уч.г. | S2: Участие в работе муниципальных комиссий УСО в текущем учебном году | V2: Курсовая подготовка | X2: Количество руководителей ОМО | Y2: Оценка за результат | Z2: Прохождение диагностики профкомпетенций | AB2: Апробация рабочих программ, оценка предметных компитенций | AC2: Оценка за результат | AD2: Активность участия в онлайн-уроках по финансовой грамотности (кол-во уроков) | AE2: Оценка за результат | AF2: Активность работы на сайте по функциональной грамотности | AG2: Оценка за результат | AH2: Реализация муниципального проекта СМАРТЕКА (да-1, нет-0) | AI2: Оценка за результат | AJ2: Педкласс (участие да-1, нет-0) | AK2: Оценка за результат | AL2: Дни открытых дверей, ЕМД (да-1, нет-0) | AM2: Оценка за результат | AN2: Участие в ОМО | AP2: ОЦЕНКА по критерию
C3: педагоги, имеющие I кв. кат. (%) | D3: Оценка за результат | E3: педагоги, имеющие высшую кв. кат. (%) | F3: Оценка за результат | G3: Кол-во участников конкурса "Педагогический дебют" | H3: Оценка за результат | I3: Кол-во участников конкурса "Педагогический дуэт" | J3: Оценка за результат | K3: Кол-во участников конкурса "Воспитать человека" | L3: Оценка за результат | M3: Кол-во участников региональных этапов конкурсов проф.мастерства | N3: Оценка за результат | O3: Кол-во педагогов ОО, имеющих звание «Почетный педагог» (человек) | P3: Оценка за результат | Q3: Кол-во участников "Учитель года" в текущем году (человек) | R3: Оценка за результат | S3: в Олимпиадах, | T3: доля участников (% от кол-ва педагогов ОО)*** | U3: Оценка за результат | V3: Кол-во педагогов прошедших КПК доля участников (% от кол-ва педагогов ОО)*** | W3: Оценка за результат | Z3: Прохождение диагностики базовых школ (с учетом филиалов) кол-во человек | AA3: Оценка за результат | AN3: доля участников (% от кол-ва педагогов ОО)*** | AO3: Оценка за результат
A4: МАОУ СОШ № 1 пгт Серышево | B4: 46 | C4: 24 | D4: =LOOKUP(C4,{0,1,6,16,26,41,61,81},{"0","1","2","3","4","5","6","7"}) -> 3 | E4: 20 | F4: =LOOKUP(E4,{0,1,6,16,26,41,61,81},{"0","1","2","3","4","5","6","7"}) -> 3 | G4: 0 | H4: =LOOKUP(G4,{0,1,2,3,4},{"0","2","4","6","8"}) -> 0 | I4: 0 | J4: =LOOKUP(I4,{0,1,2,3,4},{"0","2","4","6","8"}) -> 0 | K4: 1 | L4: =LOOKUP(K4,{0,1,2,3,4},{"0","1","2","3","4"}) -> 1 | M4: 1 | N4: =LOOKUP(M4,{0,1,2,3,4},{"0","1","2","3","4"}) -> 1 | O4: 1 | P4: =LOOKUP(O4,{0,1,2,3,4,5,6,7},{"0","1","2","3","4","5","6","7"}) -> 1 | Q4: 1 | R4: =LOOKUP(Q4,{0,1,2,3},{"0","1","2","3"}) -> 1 | S4: 21 | T4: 45.6 | U4: =LOOKUP(T4,{0,0.6,3,11,31,51},{"0","1","2","3","4","5"}) -> 4 | V4: 86.3 | W4: =LOOKUP(V4,{0,1,6,16,26,41,61,81},{"0","1","2","3","4","5","6","7"}) -> 7 | X4: 5 | Y4: =LOOKUP(X4,{0,1,2,3,4},{"0","2","4","6","8"}) -> 8 | Z4: 53 | AA4: =LOOKUP(Z4,{0,1,5,10,20,30,45,55},{"0","1","2","3","4","5","6","7"}) -> 6 | AB4: 0 | AC4: =LOOKUP(AB4,{0,1,5,10,14},{"0","1","2","3","4"}) -> 0 | AD4: 163 | AE4: =LOOKUP(AD4,{0,1,5,10,15,20},{"0","1","2","3","4","5"}) -> 5 | AF4: 0 | AG4: =LOOKUP(AF4,{0,1,49,69,85,95},{"0","1","2","3","4","5"}) -> 0 | AH4: 0 | AI4: =LOOKUP(AH4,{0,1},{"0","1"}) -> 0 | AJ4: 0 | AK4: =LOOKUP(AJ4,{0,1},{"0","1"}) -> 0 | AL4: 2 | AM4: =LOOKUP(AL4,{0,1},{"0","1"}) -> 1 | AN4: 108 | AO4: =LOOKUP(AN4,{0,1,10,20,35,45,60,70},{"0","1","2","3","4","5","6","7"}) -> 7 | AP4: =D4+F4+H4+J4+L4+N4+P4+R4+U4+W4+Y4+РЕЙТИНГ!CAA324+AC4+AE4+AG4+AI4+AK4+AM4+AO4 -> 42
A5: СОШ с.Украинка | B5: 10 | C5: 20 | D5: =LOOKUP(C5,{0,1,6,16,26,41,61,81},{"0","1","2","3","4","5","6","7"}) -> 3 | E5: 0 | F5: =LOOKUP(E5,{0,1,6,16,26,41,61,81},{"0","1","2","3","4","5","6","7"}) -> 0 | G5: 0 | H5: =LOOKUP(G5,{0,1,2,3,4},{"0","2","4","6","8"}) -> 0 | I5: 0 | J5: =LOOKUP(I5,{0,1,2,3,4},{"0","2","4","6","8"}) -> 0 | K5: 0 | L5: =LOOKUP(K5,{0,1,2,3,4},{"0","1","2","3","4"}) -> 0 | M5: 0 | N5: =LOOKUP(M5,{0,1,2,3,4},{"0","1","2","3","4"}) -> 0 | O5: 0 | P5: =LOOKUP(O5,{0,1,2,3,4,5,6,7},{"0","1","2","3","4","5","6","7"}) -> 0 | Q5: 0 | R5: =LOOKUP(Q5,{0,1,2,3},{"0","1","2","3"}) -> 0 | S5: 1 | T5: 10 | U5: =LOOKUP(T5,{0,0.6,3,11,31,51},{"0","1","2","3","4","5"}) -> 2 | V5: 40 | W5: =LOOKUP(V5,{0,1,6,16,26,41,61,81},{"0","1","2","3","4","5","6","7"}) -> 4 | X5: 1 | Y5: =LOOKUP(X5,{0,1,2,3,4},{"0","2","4","6","8"}) -> 2 | Z5: 8 | AA5: =LOOKUP(Z5,{0,1,5,10,20,30,45,55},{"0","1","2","3","4","5","6","7"}) -> 2 | AB5: 0 | AC5: =LOOKUP(AB5,{0,1,5,10,14},{"0","1","2","3","4"}) -> 0 | AD5: 104 | AE5: =LOOKUP(AD5,{0,1,5,10,15,20},{"0","1","2","3","4","5"}) -> 5 | AF5: 0 | AG5: =LOOKUP(AF5,{0,1,49,69,85,95},{"0","1","2","3","4","5"}) -> 0 | AH5: 1 | AI5: =LOOKUP(AH5,{0,1},{"0","1"}) -> 1 | AJ5: 0 | AK5: =LOOKUP(AJ5,{0,1},{"0","1"}) -> 0 | AL5: 0 | AM5: =LOOKUP(AL5,{0,1},{"0","1"}) -> 0 | AN5: 36 | AO5: =LOOKUP(AN5,{0,1,10,20,35,45,60,70},{"0","1","2","3","4","5","6","7"}) -> 4 | AP5: =D5+F5+H5+J5+L5+N5+P5+R5+U5+W5+Y5+AA5+AC5+AE5+AG5+AI5+AK5+AM5+AO5 -> 23
A6: ООШ с.Поляна | B6: 11 | C6: 18 | D6: =LOOKUP(C6,{0,1,6,16,26,41,61,81},{"0","1","2","3","4","5","6","7"}) -> 3 | E6: 0 | F6: =LOOKUP(E6,{0,1,6,16,26,41,61,81},{"0","1","2","3","4","5","6","7"}) -> 0 | G6: 0 | H6: =LOOKUP(G6,{0,1,2,3,4},{"0","2","4","6","8"}) -> 0 | I6: 0 | J6: =LOOKUP(I6,{0,1,2,3,4},{"0","2","4","6","8"}) -> 0 | K6: 0 | L6: =LOOKUP(K6,{0,1,2,3,4},{"0","1","2","3","4"}) -> 0 | M6: 0 | N6: =LOOKUP(M6,{0,1,2,3,4},{"0","1","2","3","4"}) -> 0 | O6: 0 | P6: =LOOKUP(O6,{0,1,2,3,4,5,6,7},{"0","1","2","3","4","5","6","7"}) -> 0 | Q6: 0 | R6: =LOOKUP(Q6,{0,1,2,3},{"0","1","2","3"}) -> 0 | S6: 0 | T6: 0 | U6: =LOOKUP(T6,{0,0.6,3,11,31,51},{"0","1","2","3","4","5"}) -> 0 | V6: 18.1 | W6: =LOOKUP(V6,{0,1,6,16,26,41,61,81},{"0","1","2","3","4","5","6","7"}) -> 3 | X6: 0 | Y6: =LOOKUP(X6,{0,1,2,3,4},{"0","2","4","6","8"}) -> 0 | Z6: 0 | AA6: =LOOKUP(Z6,{0,1,5,10,20,30,45,55},{"0","1","2","3","4","5","6","7"}) -> 0 | AB6: 0 | AC6: =LOOKUP(AB6,{0,1,5,10,14},{"0","1","2","3","4"}) -> 0 | AD6: 69 | AE6: =LOOKUP(AD6,{0,1,5,10,15,20},{"0","1","2","3","4","5"}) -> 5 | AF6: 0 | AG6: =LOOKUP(AF6,{0,1,49,69,85,95},{"0","1","2","3","4","5"}) -> 0 | AH6: 1 | AI6: =LOOKUP(AH6,{0,1},{"0","1"}) -> 1 | AJ6: 0 | AK6: =LOOKUP(AJ6,{0,1},{"0","1"}) -> 0 | AL6: 0 | AM6: =LOOKUP(AL6,{0,1},{"0","1"}) -> 0 | AN6: 33 | AO6: =LOOKUP(AN6,{0,1,10,20,35,45,60,70},{"0","1","2","3","4","5","6","7"}) -> 3 | AP6: =D6+F6+H6+J6+L6+N6+P6+R6+U6+W6+Y6+AA6+AC6+AE6+AG6+AI6+AK6+AM6+AO6 -> 15
A7: ООШ с.Белоногово | B7: 11 | C7: 18 | D7: =LOOKUP(C7,{0,1,6,16,26,41,61,81},{"0","1","2","3","4","5","6","7"}) -> 3 | E7: 0 | F7: =LOOKUP(E7,{0,1,6,16,26,41,61,81},{"0","1","2","3","4","5","6","7"}) -> 0 | G7: 0 | H7: =LOOKUP(G7,{0,1,2,3,4},{"0","2","4","6","8"}) -> 0 | I7: 0 | J7: =LOOKUP(I7,{0,1,2,3,4},{"0","2","4","6","8"}) -> 0 | K7: 0 | L7: =LOOKUP(K7,{0,1,2,3,4},{"0","1","2","3","4"}) -> 0 | M7: 0 | N7: =LOOKUP(M7,{0,1,2,3,4},{"0","1","2","3","4"}) -> 0 | O7: 0 | P7: =LOOKUP(O7,{0,1,2,3,4,5,6,7},{"0","1","2","3","4","5","6","7"}) -> 0 | Q7: 0 | R7: =LOOKUP(Q7,{0,1,2,3},{"0","1","2","3"}) -> 0 | S7: 2 | T7: 19 | U7: =LOOKUP(T7,{0,0.6,3,11,31,51},{"0","1","2","3","4","5"}) -> 3 | V7: 18.1 | W7: =LOOKUP(V7,{0,1,6,16,26,41,61,81},{"0","1","2","3","4","5","6","7"}) -> 3 | X7: 0 | Y7: =LOOKUP(X7,{0,1,2,3,4},{"0","2","4","6","8"}) -> 0 | Z7: 5 | AA7: =LOOKUP(Z7,{0,1,5,10,20,30,45,55},{"0","1","2","3","4","5","6","7"}) -> 2 | AB7: 0 | AC7: =LOOKUP(AB7,{0,1,5,10,14},{"0","1","2","3","4"}) -> 0 | AD7: 1 | AE7: =LOOKUP(AD7,{0,1,5,10,15,20},{"0","1","2","3","4","5"}) -> 1 | AF7: 0 | AG7: =LOOKUP(AF7,{0,1,49,69,85,95},{"0","1","2","3","4","5"}) -> 0 | AH7: 0 | AI7: =LOOKUP(AH7,{0,1},{"0","1"}) -> 0 | AJ7: 0 | AK7: =LOOKUP(AJ7,{0,1},{"0","1"}) -> 0 | AL7: 0 | AM7: =LOOKUP(AL7,{0,1},{"0","1"}) -> 0 | AN7: 40 | AO7: =LOOKUP(AN7,{0,1,10,20,35,45,60,70},{"0","1","2","3","4","5","6","7"}) -> 4 | AP7: =D7+F7+H7+J7+L7+N7+P7+R7+U7+W7+Y7+AA7+AC7+AE7+AG7+AI7+AK7+AM7+AO7 -> 16
A8: МАОУ СОШ № 2 пгт Серышево | B8: 81 | C8: 3 | D8: =LOOKUP(C8,{0,1,6,16,26,41,61,81},{"0","1","2","3","4","5","6","7"}) -> 1 | E8: 9.8 | F8: =LOOKUP(E8,{0,1,6,16,26,41,61,81},{"0","1","2","3","4","5","6","7"}) -> 2 | G8: 0 | H8: =LOOKUP(G8,{0,1,2,3,4},{"0","2","4","6","8"}) -> 0 | I8: 1 | J8: =LOOKUP(I8,{0,1,2,3,4},{"0","2","4","6","8"}) -> 2 | K8: 0 | L8: =LOOKUP(K8,{0,1,2,3,4},{"0","1","2","3","4"}) -> 0 | M8: 3 | N8: =LOOKUP(M8,{0,1,2,3,4},{"0","1","2","3","4"}) -> 3 | O8: 0 | P8: =LOOKUP(O8,{0,1,2,3,4,5,6,7},{"0","1","2","3","4","5","6","7"}) -> 0 | Q8: 1 | R8: =LOOKUP(Q8,{0,1,2,3},{"0","1","2","3"}) -> 1 | S8: 22 | T8: 27.1 | U8: =LOOKUP(T8,{0,0.6,3,11,31,51},{"0","1","2","3","4","5"}) -> 3 | V8: 48.1 | W8: =LOOKUP(V8,{0,1,6,16,26,41,61,81},{"0","1","2","3","4","5","6","7"}) -> 5 | X8: 1 | Y8: =LOOKUP(X8,{0,1,2,3,4},{"0","2","4","6","8"}) -> 2 | Z8: 63 | AA8: =LOOKUP(Z8,{0,1,5,10,20,30,45,55},{"0","1","2","3","4","5","6","7"}) -> 7 | AB8: 0 | AC8: =LOOKUP(AB8,{0,1,5,10,14},{"0","1","2","3","4"}) -> 0 | AD8: 181 | AE8: =LOOKUP(AD8,{0,1,5,10,15,20},{"0","1","2","3","4","5"}) -> 5 | AF8: 0 | AG8: =LOOKUP(AF8,{0,1,49,69,85,95},{"0","1","2","3","4","5"}) -> 0 | AH8: 0 | AI8: =LOOKUP(AH8,{0,1},{"0","1"}) -> 0 | AJ8: 1 | AK8: =LOOKUP(AJ8,{0,1},{"0","1"}) -> 1 | AL8: 0 | AM8: =LOOKUP(AL8,{0,1},{"0","1"}) -> 0 | AN8: 58 | AO8: =LOOKUP(AN8,{0,1,10,20,35,45,60,70},{"0","1","2","3","4","5","6","7"}) -> 5 | AP8: =D8+F8+H8+J8+L8+N8+P8+R8+U8+W8+Y8+AA8+AC8+AE8+AG8+AI8+AK8+AM8+AO8 -> 37
A9: СОШ с.Казанка | B9: 10 | C9: 60 | D9: =LOOKUP(C9,{0,1,6,16,26,41,61,81},{"0","1","2","3","4","5","6","7"}) -> 5 | E9: 10 | F9: =LOOKUP(E9,{0,1,6,16,26,41,61,81},{"0","1","2","3","4","5","6","7"}) -> 2 | G9: 0 | H9: =LOOKUP(G9,{0,1,2,3,4},{"0","2","4","6","8"}) -> 0 | I9: 0 | J9: =LOOKUP(I9,{0,1,2,3,4},{"0","2","4","6","8"}) -> 0 | K9: 0 | L9: =LOOKUP(K9,{0,1,2,3,4},{"0","1","2","3","4"}) -> 0 | M9: 0 | N9: =LOOKUP(M9,{0,1,2,3,4},{"0","1","2","3","4"}) -> 0 | O9: 0 | P9: =LOOKUP(O9,{0,1,2,3,4,5,6,7},{"0","1","2","3","4","5","6","7"}) -> 0 | Q9: 0 | R9: =LOOKUP(Q9,{0,1,2,3},{"0","1","2","3"}) -> 0 | S9: 10 | T9: 100 | U9: =LOOKUP(T9,{0,0.6,3,11,31,51},{"0","1","2","3","4","5"}) -> 5 | V9: 10 | W9: =LOOKUP(V9,{0,1,6,16,26,41,61,81},{"0","1","2","3","4","5","6","7"}) -> 2 | X9: 1 | Y9: =LOOKUP(X9,{0,1,2,3,4},{"0","2","4","6","8"}) -> 2 | Z9: 0 | AA9: =LOOKUP(Z9,{0,1,5,10,20,30,45,55},{"0","1","2","3","4","5","6","7"}) -> 0 | AB9: 0 | AC9: =LOOKUP(AB9,{0,1,5,10,14},{"0","1","2","3","4"}) -> 0 | AD9: 92 | AE9: =LOOKUP(AD9,{0,1,5,10,15,20},{"0","1","2","3","4","5"}) -> 5 | AF9: 0 | AG9: =LOOKUP(AF9,{0,1,49,69,85,95},{"0","1","2","3","4","5"}) -> 0 | AH9: 0 | AI9: =LOOKUP(AH9,{0,1},{"0","1"}) -> 0 | AJ9: 0 | AK9: =LOOKUP(AJ9,{0,1},{"0","1"}) -> 0 | AL9: 1 | AM9: =LOOKUP(AL9,{0,1},{"0","1"}) -> 1 | AN9: 190 | AO9: =LOOKUP(AN9,{0,1,10,20,35,45,60,70},{"0","1","2","3","4","5","6","7"}) -> 7 | AP9: =D9+F9+H9+J9+L9+N9+P9+R9+U9+W9+Y9+AA9+AC9+AE9+AG9+AI9+AK9+AM9+AO9 -> 29
A10: СОШ с.Лермонтово | B10: 6 | C10: 50 | D10: =LOOKUP(C10,{0,1,6,16,26,41,61,81},{"0","1","2","3","4","5","6","7"}) -> 5 | E10: 0 | F10: =LOOKUP(E10,{0,1,6,16,26,41,61,81},{"0","1","2","3","4","5","6","7"}) -> 0 | G10: 0 | H10: =LOOKUP(G10,{0,1,2,3,4},{"0","2","4","6","8"}) -> 0 | I10: 0 | J10: =LOOKUP(I10,{0,1,2,3,4},{"0","2","4","6","8"}) -> 0 | K10: 0 | L10: =LOOKUP(K10,{0,1,2,3,4},{"0","1","2","3","4"}) -> 0 | M10: 0 | N10: =LOOKUP(M10,{0,1,2,3,4},{"0","1","2","3","4"}) -> 0 | O10: 0 | P10: =LOOKUP(O10,{0,1,2,3,4,5,6,7},{"0","1","2","3","4","5","6","7"}) -> 0 | Q10: 1 | R10: =LOOKUP(Q10,{0,1,2,3},{"0","1","2","3"}) -> 1 | S10: 6 | T10: 100 | U10: =LOOKUP(T10,{0,0.6,3,11,31,51},{"0","1","2","3","4","5"}) -> 5 | V10: 66.6 | W10: =LOOKUP(V10,{0,1,6,16,26,41,61,81},{"0","1","2","3","4","5","6","7"}) -> 6 | X10: 0 | Y10: =LOOKUP(X10,{0,1,2,3,4},{"0","2","4","6","8"}) -> 0 | Z10: 7 | AA10: =LOOKUP(Z10,{0,1,5,10,20,30,45,55},{"0","1","2","3","4","5","6","7"}) -> 2 | AB10: 0 | AC10: =LOOKUP(AB10,{0,1,5,10,14},{"0","1","2","3","4"}) -> 0 | AD10: 98 | AE10: =LOOKUP(AD10,{0,1,5,10,15,20},{"0","1","2","3","4","5"}) -> 5 | AF10: 0 | AG10: =LOOKUP(AF10,{0,1,49,69,85,95},{"0","1","2","3","4","5"}) -> 0 | AH10: 0 | AI10: =LOOKUP(AH10,{0,1},{"0","1"}) -> 0 | AJ10: 0 | AK10: =LOOKUP(AJ10,{0,1},{"0","1"}) -> 0 | AL10: 1 | AM10: =LOOKUP(AL10,{0,1},{"0","1"}) -> 1 | AN10: 143 | AO10: =LOOKUP(AN10,{0,1,10,20,35,45,60,70},{"0","1","2","3","4","5","6","7"}) -> 7 | AP10: =D10+F10+H10+J10+L10+N10+P10+R10+U10+W10+Y10+AA10+AC10+AE10+AG10+AI10+AK10+AM10+AO10 -> 32
A11: МОАУ СОШ с.Новосергеевка | B11: 16 | C11: 13 | D11: =LOOKUP(C11,{0,1,6,16,26,41,61,81},{"0","1","2","3","4","5","6","7"}) -> 2 | E11: 0 | F11: =LOOKUP(E11,{0,1,6,16,26,41,61,81},{"0","1","2","3","4","5","6","7"}) -> 0 | G11: 0 | H11: =LOOKUP(G11,{0,1,2,3,4},{"0","2","4","6","8"}) -> 0 | I11: 0 | J11: =LOOKUP(I11,{0,1,2,3,4},{"0","2","4","6","8"}) -> 0 | K11: 0 | L11: =LOOKUP(K11,{0,1,2,3,4},{"0","1","2","3","4"}) -> 0 | M11: 0 | N11: =LOOKUP(M11,{0,1,2,3,4},{"0","1","2","3","4"}) -> 0 | O11: 0 | P11: =LOOKUP(O11,{0,1,2,3,4,5,6,7},{"0","1","2","3","4","5","6","7"}) -> 0 | Q11: 0 | R11: =LOOKUP(Q11,{0,1,2,3},{"0","1","2","3"}) -> 0 | S11: 0 | T11: 0 | U11: =LOOKUP(T11,{0,0.6,3,11,31,51},{"0","1","2","3","4","5"}) -> 0 | V11: 25 | W11: =LOOKUP(V11,{0,1,6,16,26,41,61,81},{"0","1","2","3","4","5","6","7"}) -> 3 | X11: 0 | Y11: =LOOKUP(X11,{0,1,2,3,4},{"0","2","4","6","8"}) -> 0 | Z11: 11 | AA11: =LOOKUP(Z11,{0,1,5,10,20,30,45,55},{"0","1","2","3","4","5","6","7"}) -> 3 | AB11: 0 | AC11: =LOOKUP(AB11,{0,1,5,10,14},{"0","1","2","3","4"}) -> 0 | AD11: 1 | AE11: =LOOKUP(AD11,{0,1,5,10,15,20},{"0","1","2","3","4","5"}) -> 1 | AF11: 0 | AG11: =LOOKUP(AF11,{0,1,49,69,85,95},{"0","1","2","3","4","5"}) -> 0 | AH11: 0 | AI11: =LOOKUP(AH11,{0,1},{"0","1"}) -> 0 | AJ11: 0 | AK11: =LOOKUP(AJ11,{0,1},{"0","1"}) -> 0 | AL11: 1 | AM11: =LOOKUP(AL11,{0,1},{"0","1"}) -> 1 | AN11: 76 | AO11: =LOOKUP(AN11,{0,1,10,20,35,45,60,70},{"0","1","2","3","4","5","6","7"}) -> 7 | AP11: =D10+F10+H10+J10+L10+N10+P10+R10+U10+W10+Y10+AA10+AC10+AE10+AG10+AI10+AK10+AM10+AO10 -> 32
A12: СОШ с.Широкий Лог | B12: 7 | C12: 14 | D12: =LOOKUP(C12,{0,1,6,16,26,41,61,81},{"0","1","2","3","4","5","6","7"}) -> 2 | E12: 0 | F12: =LOOKUP(E12,{0,1,6,16,26,41,61,81},{"0","1","2","3","4","5","6","7"}) -> 0 | G12: 0 | H12: =LOOKUP(G12,{0,1,2,3,4},{"0","2","4","6","8"}) -> 0 | I12: 0 | J12: =LOOKUP(I12,{0,1,2,3,4},{"0","2","4","6","8"}) -> 0 | K12: 0 | L12: =LOOKUP(K12,{0,1,2,3,4},{"0","1","2","3","4"}) -> 0 | M12: 0 | N12: =LOOKUP(M12,{0,1,2,3,4},{"0","1","2","3","4"}) -> 0 | O12: 0 | P12: =LOOKUP(O12,{0,1,2,3,4,5,6,7},{"0","1","2","3","4","5","6","7"}) -> 0 | Q12: 1 | R12: =LOOKUP(Q12,{0,1,2,3},{"0","1","2","3"}) -> 1 | S12: 3 | T12: 42.8 | U12: =LOOKUP(T12,{0,0.6,3,11,31,51},{"0","1","2","3","4","5"}) -> 4 | V12: 86 | W12: =LOOKUP(V12,{0,1,6,16,26,41,61,81},{"0","1","2","3","4","5","6","7"}) -> 7 | X12: 0 | Y12: =LOOKUP(X12,{0,1,2,3,4},{"0","2","4","6","8"}) -> 0 | Z12: 6 | AA12: =LOOKUP(Z12,{0,1,5,10,20,30,45,55},{"0","1","2","3","4","5","6","7"}) -> 2 | AB12: 0 | AC12: =LOOKUP(AB12,{0,1,5,10,14},{"0","1","2","3","4"}) -> 0 | AD12: 63 | AE12: =LOOKUP(AD12,{0,1,5,10,15,20},{"0","1","2","3","4","5"}) -> 5 | AF12: 0 | AG12: =LOOKUP(AF12,{0,1,49,69,85,95},{"0","1","2","3","4","5"}) -> 0 | AH12: 0 | AI12: =LOOKUP(AH12,{0,1},{"0","1"}) -> 0 | AJ12: 0 | AK12: =LOOKUP(AJ12,{0,1},{"0","1"}) -> 0 | AL12: 0 | AM12: =LOOKUP(AL12,{0,1},{"0","1"}) -> 0 | AN12: 100 | AO12: =LOOKUP(AN12,{0,1,10,20,35,45,60,70},{"0","1","2","3","4","5","6","7"}) -> 7 | AP12: =D10+F10+H10+J10+L10+N10+P10+R10+U10+W10+Y10+AA10+AC10+AE10+AG10+AI10+AK10+AM10+AO10 -> 32
A13: ООШ с.Белогорка | B13: 9 | C13: 45 | D13: =LOOKUP(C13,{0,1,6,16,26,41,61,81},{"0","1","2","3","4","5","6","7"}) -> 5 | E13: 33 | F13: =LOOKUP(E13,{0,1,6,16,26,41,61,81},{"0","1","2","3","4","5","6","7"}) -> 4 | G13: 0 | H13: =LOOKUP(G13,{0,1,2,3,4},{"0","2","4","6","8"}) -> 0 | I13: 0 | J13: =LOOKUP(I13,{0,1,2,3,4},{"0","2","4","6","8"}) -> 0 | K13: 0 | L13: =LOOKUP(K13,{0,1,2,3,4},{"0","1","2","3","4"}) -> 0 | M13: 0 | N13: =LOOKUP(M13,{0,1,2,3,4},{"0","1","2","3","4"}) -> 0 | O13: 0 | P13: =LOOKUP(O13,{0,1,2,3,4,5,6,7},{"0","1","2","3","4","5","6","7"}) -> 0 | Q13: 0 | R13: =LOOKUP(Q13,{0,1,2,3},{"0","1","2","3"}) -> 0 | S13: 12 | T13: 100 | U13: =LOOKUP(T13,{0,0.6,3,11,31,51},{"0","1","2","3","4","5"}) -> 5 | V13: 56 | W13: =LOOKUP(V13,{0,1,6,16,26,41,61,81},{"0","1","2","3","4","5","6","7"}) -> 5 | X13: 3 | Y13: =LOOKUP(X13,{0,1,2,3,4},{"0","2","4","6","8"}) -> 6 | Z13: 8 | AA13: =LOOKUP(Z13,{0,1,5,10,20,30,45,55},{"0","1","2","3","4","5","6","7"}) -> 2 | AB13: 0 | AC13: =LOOKUP(AB13,{0,1,5,10,14},{"0","1","2","3","4"}) -> 0 | AD13: 6 | AE13: =LOOKUP(AD13,{0,1,5,10,15,20},{"0","1","2","3","4","5"}) -> 2 | AF13: 0 | AG13: =LOOKUP(AF13,{0,1,49,69,85,95},{"0","1","2","3","4","5"}) -> 0 | AH13: 0 | AI13: =LOOKUP(AH13,{0,1},{"0","1"}) -> 0 | AJ13: 0 | AK13: =LOOKUP(AJ13,{0,1},{"0","1"}) -> 0 | AL13: 0 | AM13: =LOOKUP(AL13,{0,1},{"0","1"}) -> 0 | AN13: 140 | AO13: =LOOKUP(AN13,{0,1,10,20,35,45,60,70},{"0","1","2","3","4","5","6","7"}) -> 7 | AP13: =D10+F10+H10+J10+L10+N10+P10+R10+U10+W10+Y10+AA10+AC10+AE10+AG10+AI10+AK10+AM10+AO10 -> 32
A14: МОАУ СОШ с.Томское | B14: 32 | C14: 19 | D14: =LOOKUP(C14,{0,1,6,16,26,41,61,81},{"0","1","2","3","4","5","6","7"}) -> 3 | E14: 31 | F14: =LOOKUP(E14,{0,1,6,16,26,41,61,81},{"0","1","2","3","4","5","6","7"}) -> 4 | G14: 1 | H14: =LOOKUP(G14,{0,1,2,3,4},{"0","2","4","6","8"}) -> 2 | I14: 0 | J14: =LOOKUP(I14,{0,1,2,3,4},{"0","2","4","6","8"}) -> 0 | K14: 1 | L14: =LOOKUP(K14,{0,1,2,3,4},{"0","1","2","3","4"}) -> 1 | M14: 1 | N14: =LOOKUP(M14,{0,1,2,3,4},{"0","1","2","3","4"}) -> 1 | O14: 1 | P14: =LOOKUP(O14,{0,1,2,3,4,5,6,7},{"0","1","2","3","4","5","6","7"}) -> 1 | Q14: 1 | R14: =LOOKUP(Q14,{0,1,2,3},{"0","1","2","3"}) -> 1 | S14: 21 | T14: 65.6 | U14: =LOOKUP(T14,{0,0.6,3,11,31,51},{"0","1","2","3","4","5"}) -> 5 | V14: 53 | W14: =LOOKUP(V14,{0,1,6,16,26,41,61,81},{"0","1","2","3","4","5","6","7"}) -> 5 | X14: 4 | Y14: =LOOKUP(X14,{0,1,2,3,4},{"0","2","4","6","8"}) -> 8 | Z14: 37 | AA14: =LOOKUP(Z14,{0,1,5,10,20,30,45,55},{"0","1","2","3","4","5","6","7"}) -> 5 | AB14: 0 | AC14: =LOOKUP(AB14,{0,1,5,10,14},{"0","1","2","3","4"}) -> 0 | AD14: 40 | AE14: =LOOKUP(AD14,{0,1,5,10,15,20},{"0","1","2","3","4","5"}) -> 5 | AF14: 0 | AG14: =LOOKUP(AF14,{0,1,49,69,85,95},{"0","1","2","3","4","5"}) -> 0 | AH14: 0 | AI14: =LOOKUP(AH14,{0,1},{"0","1"}) -> 0 | AJ14: 1 | AK14: =LOOKUP(AJ14,{0,1},{"0","1"}) -> 1 | AL14: 0 | AM14: =LOOKUP(AL14,{0,1},{"0","1"}) -> 0 | AN14: 94 | AO14: =LOOKUP(AN14,{0,1,10,20,35,45,60,70},{"0","1","2","3","4","5","6","7"}) -> 7 | AP14: =D14+F14+H14+J14+L14+N14+P14+R14+U14+W14+Y14+AA14+AC14+AE14+AG14+AI14+AK14+AM14+AO14 -> 49
A15: СОШ с.Фроловка | B15: 7 | C15: 0 | D15: =LOOKUP(C15,{0,1,6,16,26,41,61,81},{"0","1","2","3","4","5","6","7"}) -> 0 | E15: 0 | F15: =LOOKUP(E15,{0,1,6,16,26,41,61,81},{"0","1","2","3","4","5","6","7"}) -> 0 | G15: 0 | H15: =LOOKUP(G15,{0,1,2,3,4},{"0","2","4","6","8"}) -> 0 | I15: 0 | J15: =LOOKUP(I15,{0,1,2,3,4},{"0","2","4","6","8"}) -> 0 | K15: 0 | L15: =LOOKUP(K15,{0,1,2,3,4},{"0","1","2","3","4"}) -> 0 | M15: 0 | N15: =LOOKUP(M15,{0,1,2,3,4},{"0","1","2","3","4"}) -> 0 | O15: 0 | P15: =LOOKUP(O15,{0,1,2,3,4,5,6,7},{"0","1","2","3","4","5","6","7"}) -> 0 | Q15: 0 | R15: =LOOKUP(Q15,{0,1,2,3},{"0","1","2","3"}) -> 0 | S15: 1 | T15: 14.2 | U15: =LOOKUP(T15,{0,0.6,3,11,31,51},{"0","1","2","3","4","5"}) -> 3 | V15: 10 | W15: =LOOKUP(V15,{0,1,6,16,26,41,61,81},{"0","1","2","3","4","5","6","7"}) -> 2 | X15: 0 | Y15: =LOOKUP(X15,{0,1,2,3,4},{"0","2","4","6","8"}) -> 0 | Z15: 22 | AA15: =LOOKUP(Z15,{0,1,5,10,20,30,45,55},{"0","1","2","3","4","5","6","7"}) -> 4 | AB15: 0 | AC15: =LOOKUP(AB15,{0,1,5,10,14},{"0","1","2","3","4"}) -> 0 | AD15: 1 | AE15: =LOOKUP(AD15,{0,1,5,10,15,20},{"0","1","2","3","4","5"}) -> 1 | AF15: 0 | AG15: =LOOKUP(AF15,{0,1,49,69,85,95},{"0","1","2","3","4","5"}) -> 0 | AH15: 0 | AI15: =LOOKUP(AH15,{0,1},{"0","1"}) -> 0 | AJ15: 0 | AK15: =LOOKUP(AJ15,{0,1},{"0","1"}) -> 0 | AL15: 0 | AM15: =LOOKUP(AL15,{0,1},{"0","1"}) -> 0 | AN15: 50 | AO15: =LOOKUP(AN15,{0,1,10,20,35,45,60,70},{"0","1","2","3","4","5","6","7"}) -> 5 | AP15: =D15+F15+H15+J15+L15+N15+P15+R15+U15+W15+Y15+AA15+AC15+AE15+AG15+AI15+AK15+AM15+AO15 -> 15
A16: ООШ с.Лебяжье | B16: 10 | C16: 60 | D16: =LOOKUP(C16,{0,1,6,16,26,41,61,81},{"0","1","2","3","4","5","6","7"}) -> 5 | E16: 0 | F16: =LOOKUP(E16,{0,1,6,16,26,41,61,81},{"0","1","2","3","4","5","6","7"}) -> 0 | G16: 0 | H16: =LOOKUP(G16,{0,1,2,3,4},{"0","2","4","6","8"}) -> 0 | I16: 0 | J16: =LOOKUP(I16,{0,1,2,3,4},{"0","2","4","6","8"}) -> 0 | K16: 0 | L16: =LOOKUP(K16,{0,1,2,3,4},{"0","1","2","3","4"}) -> 0 | M16: 0 | N16: =LOOKUP(M16,{0,1,2,3,4},{"0","1","2","3","4"}) -> 0 | O16: 0 | P16: =LOOKUP(O16,{0,1,2,3,4,5,6,7},{"0","1","2","3","4","5","6","7"}) -> 0 | Q16: 1 | R16: =LOOKUP(Q16,{0,1,2,3},{"0","1","2","3"}) -> 1 | S16: 1 | T16: 10 | U16: =LOOKUP(T16,{0,0.6,3,11,31,51},{"0","1","2","3","4","5"}) -> 2 | V16: 10 | W16: =LOOKUP(V16,{0,1,6,16,26,41,61,81},{"0","1","2","3","4","5","6","7"}) -> 2 | X16: 0 | Y16: =LOOKUP(X16,{0,1,2,3,4},{"0","2","4","6","8"}) -> 0 | Z16: 0 | AA16: =LOOKUP(Z16,{0,1,5,10,20,30,45,55},{"0","1","2","3","4","5","6","7"}) -> 0 | AB16: 0 | AC16: =LOOKUP(AB16,{0,1,5,10,14},{"0","1","2","3","4"}) -> 0 | AD16: 30 | AE16: =LOOKUP(AD16,{0,1,5,10,15,20},{"0","1","2","3","4","5"}) -> 5 | AF16: 0 | AG16: =LOOKUP(AF16,{0,1,49,69,85,95},{"0","1","2","3","4","5"}) -> 0 | AH16: 0 | AI16: =LOOKUP(AH16,{0,1},{"0","1"}) -> 0 | AJ16: 0 | AK16: =LOOKUP(AJ16,{0,1},{"0","1"}) -> 0 | AL16: 0 | AM16: =LOOKUP(AL16,{0,1},{"0","1"}) -> 0 | AN16: 60 | AO16: =LOOKUP(AN16,{0,1,10,20,35,45,60,70},{"0","1","2","3","4","5","6","7"}) -> 6 | AP16: =D16+F16+H16+J16+L16+N16+P16+R16+U16+W16+Y16+AA16+AC16+AE16+AG16+AI16+AK16+AM16+AO16 -> 21
A17: МОАУ СОШ с.Озерное | B17: 22 | C17: 0 | D17: =LOOKUP(C17,{0,1,6,16,26,41,61,81},{"0","1","2","3","4","5","6","7"}) -> 0 | E17: 4.5 | F17: =LOOKUP(E17,{0,1,6,16,26,41,61,81},{"0","1","2","3","4","5","6","7"}) -> 1 | G17: 0 | H17: =LOOKUP(G17,{0,1,2,3,4},{"0","2","4","6","8"}) -> 0 | I17: 0 | J17: =LOOKUP(I17,{0,1,2,3,4},{"0","2","4","6","8"}) -> 0 | K17: 0 | L17: =LOOKUP(K17,{0,1,2,3,4},{"0","1","2","3","4"}) -> 0 | M17: 0 | N17: =LOOKUP(M17,{0,1,2,3,4},{"0","1","2","3","4"}) -> 0 | O17: 0 | P17: =LOOKUP(O17,{0,1,2,3,4,5,6,7},{"0","1","2","3","4","5","6","7"}) -> 0 | Q17: 0 | R17: =LOOKUP(Q17,{0,1,2,3},{"0","1","2","3"}) -> 0 | S17: 6 | T17: 27.2 | U17: =LOOKUP(T17,{0,0.6,3,11,31,51},{"0","1","2","3","4","5"}) -> 3 | V17: 45 | W17: =LOOKUP(V17,{0,1,6,16,26,41,61,81},{"0","1","2","3","4","5","6","7"}) -> 5 | X17: 0 | Y17: =LOOKUP(X17,{0,1,2,3,4},{"0","2","4","6","8"}) -> 0 | Z17: 23 | AA17: =LOOKUP(Z17,{0,1,5,10,20,30,45,55},{"0","1","2","3","4","5","6","7"}) -> 4 | AB17: 0 | AC17: =LOOKUP(AB17,{0,1,5,10,14},{"0","1","2","3","4"}) -> 0 | AD17: 9 | AE17: =LOOKUP(AD17,{0,1,5,10,15,20},{"0","1","2","3","4","5"}) -> 2 | AF17: 0 | AG17: =LOOKUP(AF17,{0,1,49,69,85,95},{"0","1","2","3","4","5"}) -> 0 | AH17: 0 | AI17: =LOOKUP(AH17,{0,1},{"0","1"}) -> 0 | AJ17: 0 | AK17: =LOOKUP(AJ17,{0,1},{"0","1"}) -> 0 | AL17: 0 | AM17: =LOOKUP(AL17,{0,1},{"0","1"}) -> 0 | AN17: 69 | AO17: =LOOKUP(AN17,{0,1,10,20,35,45,60,70},{"0","1","2","3","4","5","6","7"}) -> 6 | AP17: =D17+F17+H17+J17+L17+N17+P17+R17+U17+W17+Y17+AA17+AC17+AE17+AG17+AI17+AK17+AM17+AO17 -> 21
A18: ООШ ст.Арга | B18: 8 | C18: 13 | D18: =LOOKUP(C18,{0,1,6,16,26,41,61,81},{"0","1","2","3","4","5","6","7"}) -> 2 | E18: 0 | F18: =LOOKUP(E18,{0,1,6,16,26,41,61,81},{"0","1","2","3","4","5","6","7"}) -> 0 | G18: 0 | H18: =LOOKUP(G18,{0,1,2,3,4},{"0","2","4","6","8"}) -> 0 | I18: 0 | J18: =LOOKUP(I18,{0,1,2,3,4},{"0","2","4","6","8"}) -> 0 | K18: 0 | L18: =LOOKUP(K18,{0,1,2,3,4},{"0","1","2","3","4"}) -> 0 | M18: 0 | N18: =LOOKUP(M18,{0,1,2,3,4},{"0","1","2","3","4"}) -> 0 | O18: 0 | P18: =LOOKUP(O18,{0,1,2,3,4,5,6,7},{"0","1","2","3","4","5","6","7"}) -> 0 | Q18: 0 | R18: =LOOKUP(Q18,{0,1,2,3},{"0","1","2","3"}) -> 0 | S18: 2 | T18: 25 | U18: =LOOKUP(T18,{0,0.6,3,11,31,51},{"0","1","2","3","4","5"}) -> 3 | V18: 4.5 | W18: =LOOKUP(V18,{0,1,6,16,26,41,61,81},{"0","1","2","3","4","5","6","7"}) -> 1 | X18: 0 | Y18: =LOOKUP(X18,{0,1,2,3,4},{"0","2","4","6","8"}) -> 0 | Z18: 0 | AA18: =LOOKUP(Z18,{0,1,5,10,20,30,45,55},{"0","1","2","3","4","5","6","7"}) -> 0 | AB18: 0 | AC18: =LOOKUP(AB18,{0,1,5,10,14},{"0","1","2","3","4"}) -> 0 | AD18: 105 | AE18: =LOOKUP(AD18,{0,1,5,10,15,20},{"0","1","2","3","4","5"}) -> 5 | AF18: 0 | AG18: =LOOKUP(AF18,{0,1,49,69,85,95},{"0","1","2","3","4","5"}) -> 0 | AH18: 0 | AI18: =LOOKUP(AH18,{0,1},{"0","1"}) -> 0 | AJ18: 0 | AK18: =LOOKUP(AJ18,{0,1},{"0","1"}) -> 0 | AL18: 0 | AM18: =LOOKUP(AL18,{0,1},{"0","1"}) -> 0 | AN18: 71 | AO18: =LOOKUP(AN18,{0,1,10,20,35,45,60,70},{"0","1","2","3","4","5","6","7"}) -> 7 | AP18: =D18+F18+H18+J18+L18+N18+P18+R18+U18+W18+Y18+AA18+AC18+AE18+AG18+AI18+AK18+AM18+AO18 -> 18
A19: МОАУ СОШ с.Большая Сазанка | B19: 12 | C19: 0 | D19: =LOOKUP(C19,{0,1,6,16,26,41,61,81},{"0","1","2","3","4","5","6","7"}) -> 0 | E19: 0 | F19: =LOOKUP(E19,{0,1,6,16,26,41,61,81},{"0","1","2","3","4","5","6","7"}) -> 0 | G19: 0 | H19: =LOOKUP(G19,{0,1,2,3,4},{"0","2","4","6","8"}) -> 0 | I19: 0 | J19: =LOOKUP(I19,{0,1,2,3,4},{"0","2","4","6","8"}) -> 0 | K19: 1 | L19: =LOOKUP(K19,{0,1,2,3,4},{"0","1","2","3","4"}) -> 1 | M19: 0 | N19: =LOOKUP(M19,{0,1,2,3,4},{"0","1","2","3","4"}) -> 0 | O19: 0 | P19: =LOOKUP(O19,{0,1,2,3,4,5,6,7},{"0","1","2","3","4","5","6","7"}) -> 0 | Q19: 0 | R19: =LOOKUP(Q19,{0,1,2,3},{"0","1","2","3"}) -> 0 | S19: 10 | T19: 83.3 | U19: =LOOKUP(T19,{0,0.6,3,11,31,51},{"0","1","2","3","4","5"}) -> 5 | V19: 25 | W19: =LOOKUP(V19,{0,1,6,16,26,41,61,81},{"0","1","2","3","4","5","6","7"}) -> 3 | X19: 0 | Y19: =LOOKUP(X19,{0,1,2,3,4},{"0","2","4","6","8"}) -> 0 | Z19: 9 | AA19: =LOOKUP(Z19,{0,1,5,10,20,30,45,55},{"0","1","2","3","4","5","6","7"}) -> 2 | AB19: 0 | AC19: =LOOKUP(AB19,{0,1,5,10,14},{"0","1","2","3","4"}) -> 0 | AD19: 1 | AE19: =LOOKUP(AD19,{0,1,5,10,15,20},{"0","1","2","3","4","5"}) -> 1 | AF19: 0 | AG19: =LOOKUP(AF19,{0,1,49,69,85,95},{"0","1","2","3","4","5"}) -> 0 | AH19: 0 | AI19: =LOOKUP(AH19,{0,1},{"0","1"}) -> 0 | AJ19: 0 | AK19: =LOOKUP(AJ19,{0,1},{"0","1"}) -> 0 | AL19: 0 | AM19: =LOOKUP(AL19,{0,1},{"0","1"}) -> 0 | AN19: 67 | AO19: =LOOKUP(AN19,{0,1,10,20,35,45,60,70},{"0","1","2","3","4","5","6","7"}) -> 6 | AP19: =D19+F19+H19+J19+L19+N19+P19+R19+U19+W19+Y19+AA19+AC19+AE19+AG19+AI19+AK19+AM19+AO19 -> 18
A20: МОАУ СОШ с.Сосновка | B20: 14 | C20: 21 | D20: =LOOKUP(C20,{0,1,6,16,26,41,61,81},{"0","1","2","3","4","5","6","7"}) -> 3 | E20: 7.1 | F20: =LOOKUP(E20,{0,1,6,16,26,41,61,81},{"0","1","2","3","4","5","6","7"}) -> 2 | G20: 0 | H20: =LOOKUP(G20,{0,1,2,3,4},{"0","2","4","6","8"}) -> 0 | I20: 0 | J20: =LOOKUP(I20,{0,1,2,3,4},{"0","2","4","6","8"}) -> 0 | K20: 1 | L20: =LOOKUP(K20,{0,1,2,3,4},{"0","1","2","3","4"}) -> 1 | M20: 0 | N20: =LOOKUP(M20,{0,1,2,3,4},{"0","1","2","3","4"}) -> 0 | O20: 0 | P20: =LOOKUP(O20,{0,1,2,3,4,5,6,7},{"0","1","2","3","4","5","6","7"}) -> 0 | Q20: 1 | R20: =LOOKUP(Q20,{0,1,2,3},{"0","1","2","3"}) -> 1 | S20: 3 | T20: 21.4 | U20: =LOOKUP(T20,{0,0.6,3,11,31,51},{"0","1","2","3","4","5"}) -> 3 | V20: 43 | W20: =LOOKUP(V20,{0,1,6,16,26,41,61,81},{"0","1","2","3","4","5","6","7"}) -> 5 | X20: 0 | Y20: =LOOKUP(X20,{0,1,2,3,4},{"0","2","4","6","8"}) -> 0 | Z20: 7 | AA20: =LOOKUP(Z20,{0,1,5,10,20,30,45,55},{"0","1","2","3","4","5","6","7"}) -> 2 | AB20: 0 | AC20: =LOOKUP(AB20,{0,1,5,10,14},{"0","1","2","3","4"}) -> 0 | AD20: 15 | AE20: =LOOKUP(AD20,{0,1,5,10,15,20},{"0","1","2","3","4","5"}) -> 4 | AF20: 0 | AG20: =LOOKUP(AF20,{0,1,49,69,85,95},{"0","1","2","3","4","5"}) -> 0 | AH20: 1 | AI20: =LOOKUP(AH20,{0,1},{"0","1"}) -> 1 | AJ20: 0 | AK20: =LOOKUP(AJ20,{0,1},{"0","1"}) -> 0 | AL20: 1 | AM20: =LOOKUP(AL20,{0,1},{"0","1"}) -> 1 | AN20: 71 | AO20: =LOOKUP(AN20,{0,1,10,20,35,45,60,70},{"0","1","2","3","4","5","6","7"}) -> 7 | AP20: =D20+F20+H20+J20+L20+N20+P20+R20+U20+W20+Y20+AA20+AC20+AE20+AG20+AI20+AK20+AM20+AO20 -> 30
B21: =SUM(B4:B20) -> 312 | C21: 51
B22: . | C22: . | E22: . | G22: . | I22: . | K22: . | Q22: . | T22: олим, пн + к-сы | V22: , | AD22: , | AH22: ,
A24: * Текущий год - текущий календарный год
A26: *** По приказам УСО

Sheet Мониторинг участия
A2: Наименование ОО | B2: кол-во обуч-ся на отчетный период | C2: ВСОШ (ноябрь 2025 - февраль 2026 г.) | J2: Стипендия Губернатора победителям/призёрам МЭ ВсОШ | L2: Стипендия Губернатора победителям/призёрам РЭ ВсОШ | N2: Стипендия Губернатора отличникам | P2: Олимпиада обучающихся начальных классов (апрель 2026 г.) | W2: Парад наук (апрель 2025 г.) | Z2: Участие в конкурсе "Учитель - профессия на все времена" | AB2: Участие в мероприятиях ВУЗов (конференции, ДОД и др.) | AD2: ОЦЕНКА по критерию
C3: Муниципальный этап | H3: Региональный этап | P3: Муниципальный этап | W3: Муниципальный этап
C4: кол-во участий | D4: победители | E4: призёры | F4: общее количесвто победителей и призёров | G4: Оценка за результат | H4: ко-во участников | I4: Оценка за результат | J4: количество получателей | K4: Оценка за результат | L4: количество получателей | M4: Оценка за результат | N4: количество получателей | O4: Оценка за результат | P4: кол-во участников | Q4: победители | R4: призёры | S4: доля победителей (%) от кол-ва участников от ОО | T4: Оценка за результат | U4: доля призеров (%) от кол-ва участников ОО | V4: Оценка за результат | W4: кол-во участников | X4: доля победителей и призеров (%) от кол-ва участников ОО | Y4: Оценка за результат | Z4: Участие (да-1, нет-0) | AA4: Оценка за результат | AB4: Участие (да-1, нет-0) | AC4: Оценка за результат
A5: МАОУ СОШ № 1 пгт Серышево | B5: 696 | C5: 188 | D5: 12 | E5: 51 | F5: 63 | H5: 34 | I5: 0 | J5: 13 | K5: =LOOKUP(J5,{0,1},{"0","1"}) -> 1 | M5: =LOOKUP(L5,{0,1},{"0","1"}) -> 0 | O5: =LOOKUP(N5,{0,1},{"0","1"}) -> 0 | P5: 17 | Q5: 4 | R5: 7 | T5: =LOOKUP(S5,{0,1,6,16,26,41,61,81},{"0","1","2","3","4","5","6","7"}) -> 0 | V5: =LOOKUP(U5,{0,1,6,16,26,41,61,81},{"0","1","2","3","4","5","6","7"}) -> 0 | W5: 6 | X5: 6.8 | Y5: =LOOKUP(X5,{0,1,6,16,26,41,61,81},{"0","1","2","3","4","5","6","7"}) -> 2 | Z5: 0 | AA5: =LOOKUP(Z5,{0,1},{"0","1"}) -> 0 | AB5: 1 | AC5: =LOOKUP(AB5,{0,1},{"0","1"}) -> 1 | AD5: =G5+I5+#REF!+#REF!+T5+V5+AA5+AC5 -> #REF!
A6: СОШ с.Украинка | B6: 45 | E6: 1 | H6: 0 | I6: =LOOKUP(H6,{0,1,2,3,4},{"0","1","2","3","4"}) -> 0 | K6: =LOOKUP(J6,{0,1},{"0","1"}) -> 0 | M6: =LOOKUP(L6,{0,1},{"0","1"}) -> 0 | O6: =LOOKUP(N6,{0,1},{"0","1"}) -> 0 | P6: 5 | R6: 1 | T6: =LOOKUP(S6,{0,1,6,16,26,41,61,81},{"0","1","2","3","4","5","6","7"}) -> 0 | V6: =LOOKUP(U6,{0,1,6,16,26,41,61,81},{"0","1","2","3","4","5","6","7"}) -> 0 | W6: 0 | X6: 0 | Y6: =LOOKUP(X6,{0,1,6,16,26,41,61,81},{"0","1","2","3","4","5","6","7"}) -> 0 | Z6: 0 | AA6: =LOOKUP(Z6,{0,1},{"0","1"}) -> 0 | AB6: 0 | AC6: =LOOKUP(AB6,{0,1},{"0","1"}) -> 0 | AD6: =G6+I6+#REF!+#REF!+T6+V6+AA6+AC6 -> #REF!
A7: ООШ с.Поляна | B7: 82 | C7: 4 | H7: 0 | I7: =LOOKUP(H7,{0,1,2,3,4},{"0","1","2","3","4"}) -> 0 | K7: =LOOKUP(J7,{0,1},{"0","1"}) -> 0 | M7: =LOOKUP(L7,{0,1},{"0","1"}) -> 0 | O7: =LOOKUP(N7,{0,1},{"0","1"}) -> 0 | P7: 2 | T7: =LOOKUP(S7,{0,1,6,16,26,41,61,81},{"0","1","2","3","4","5","6","7"}) -> 0 | V7: =LOOKUP(U7,{0,1,6,16,26,41,61,81},{"0","1","2","3","4","5","6","7"}) -> 0 | W7: 0 | X7: 0 | Y7: =LOOKUP(X7,{0,1,6,16,26,41,61,81},{"0","1","2","3","4","5","6","7"}) -> 0 | Z7: 0 | AA7: =LOOKUP(Z7,{0,1},{"0","1"}) -> 0 | AB7: 0 | AC7: =LOOKUP(AB7,{0,1},{"0","1"}) -> 0 | AD7: =G7+I7+#REF!+#REF!+T7+V7+AA7+AC7 -> #REF!
A8: ООШ с.Белоногово | B8: 59 | C8: 11 | H8: 1 | I8: 0 | K8: =LOOKUP(J8,{0,1},{"0","1"}) -> 0 | M8: =LOOKUP(L8,{0,1},{"0","1"}) -> 0 | O8: =LOOKUP(N8,{0,1},{"0","1"}) -> 0 | P8: 0 | T8: =LOOKUP(S8,{0,1,6,16,26,41,61,81},{"0","1","2","3","4","5","6","7"}) -> 0 | V8: =LOOKUP(U8,{0,1,6,16,26,41,61,81},{"0","1","2","3","4","5","6","7"}) -> 0 | W8: 1 | X8: 2.2 | Y8: =LOOKUP(X8,{0,1,6,16,26,41,61,81},{"0","1","2","3","4","5","6","7"}) -> 1 | Z8: 0 | AA8: =LOOKUP(Z8,{0,1},{"0","1"}) -> 0 | AB8: 0 | AC8: =LOOKUP(AB8,{0,1},{"0","1"}) -> 0 | AD8: =G8+I8+#REF!+#REF!+T8+V8+AA8+AC8 -> #REF!
A9: МАОУ СОШ № 2 пгт Серышево | B9: 633 | C9: 71 | D9: 12 | E9: 23 | F9: 35 | H9: 7 | I9: 2 | J9: 11 | K9: =LOOKUP(J9,{0,1},{"0","1"}) -> 1 | L9: 1 | M9: =LOOKUP(L9,{0,1},{"0","1"}) -> 1 | N9: 2 | O9: =LOOKUP(N9,{0,1},{"0","1"}) -> 1 | P9: 27 | Q9: 6 | R9: 18 | T9: =LOOKUP(S9,{0,1,6,16,26,41,61,81},{"0","1","2","3","4","5","6","7"}) -> 0 | V9: =LOOKUP(U9,{0,1,6,16,26,41,61,81},{"0","1","2","3","4","5","6","7"}) -> 0 | W9: 17 | X9: 47.7 | Y9: =LOOKUP(X9,{0,1,6,16,26,41,61,81},{"0","1","2","3","4","5","6","7"}) -> 5 | Z9: 1 | AA9: =LOOKUP(Z9,{0,1},{"0","1"}) -> 1 | AB9: 0 | AC9: =LOOKUP(AB9,{0,1},{"0","1"}) -> 0 | AD9: =G9+I9+#REF!+#REF!+T9+V9+AA9+AC9 -> #REF!
A10: СОШ с.Казанка | B10: 56 | C10: 3 | D10: 1 | E10: 1 | F10: 2 | H10: 0 | I10: =LOOKUP(H10,{0,1,2,3,4},{"0","1","2","3","4"}) -> 0 | K10: =LOOKUP(J10,{0,1},{"0","1"}) -> 0 | M10: =LOOKUP(L10,{0,1},{"0","1"}) -> 0 | O10: =LOOKUP(N10,{0,1},{"0","1"}) -> 0 | P10: 4 | Q10: 1 | R10: 3 | T10: =LOOKUP(S10,{0,1,6,16,26,41,61,81},{"0","1","2","3","4","5","6","7"}) -> 0 | V10: =LOOKUP(U10,{0,1,6,16,26,41,61,81},{"0","1","2","3","4","5","6","7"}) -> 0 | W10: 1 | X10: 2.2 | Y10: =LOOKUP(X10,{0,1,6,16,26,41,61,81},{"0","1","2","3","4","5","6","7"}) -> 1 | Z10: 0 | AA10: =LOOKUP(Z10,{0,1},{"0","1"}) -> 0 | AB10: 0 | AC10: =LOOKUP(AB10,{0,1},{"0","1"}) -> 0 | AD10: =G10+I10+#REF!+#REF!+T10+V10+AA10+AC10 -> #REF!
A11: СОШ с.Лермонтово | B11: 35 | C11: 6 | H11: 0 | I11: =LOOKUP(H11,{0,1,2,3,4},{"0","1","2","3","4"}) -> 0 | K11: =LOOKUP(J11,{0,1},{"0","1"}) -> 0 | M11: =LOOKUP(L11,{0,1},{"0","1"}) -> 0 | O11: =LOOKUP(N11,{0,1},{"0","1"}) -> 0 | P11: 5 | Q11: 1 | R11: 1 | T11: =LOOKUP(S11,{0,1,6,16,26,41,61,81},{"0","1","2","3","4","5","6","7"}) -> 0 | V11: =LOOKUP(U11,{0,1,6,16,26,41,61,81},{"0","1","2","3","4","5","6","7"}) -> 0 | W11: 2 | X11: 4.5 | Y11: =LOOKUP(X11,{0,1,6,16,26,41,61,81},{"0","1","2","3","4","5","6","7"}) -> 1 | Z11: 0 | AA11: =LOOKUP(Z11,{0,1},{"0","1"}) -> 0 | AB11: 0 | AC11: =LOOKUP(AB11,{0,1},{"0","1"}) -> 0 | AD11: =G11+I11+#REF!+#REF!+T11+V11+AA11+AC11 -> #REF!
A12: МОАУ СОШ с.Новосергеевка | B12: 109 | C12: 7 | E12: 3 | F12: 3 | H12: 0 | I12: =LOOKUP(H12,{0,1,2,3,4},{"0","1","2","3","4"}) -> 0 | K12: =LOOKUP(J12,{0,1},{"0","1"}) -> 0 | M12: =LOOKUP(L12,{0,1},{"0","1"}) -> 0 | O12: =LOOKUP(N12,{0,1},{"0","1"}) -> 0 | P12: 2 | R12: 1 | T12: =LOOKUP(S12,{0,1,6,16,26,41,61,81},{"0","1","2","3","4","5","6","7"}) -> 0 | V12: =LOOKUP(U12,{0,1,6,16,26,41,61,81},{"0","1","2","3","4","5","6","7"}) -> 0 | W12: 0 | X12: 0 | Y12: =LOOKUP(X12,{0,1,6,16,26,41,61,81},{"0","1","2","3","4","5","6","7"}) -> 0 | Z12: 0 | AA12: =LOOKUP(Z12,{0,1},{"0","1"}) -> 0 | AB12: 0 | AC12: =LOOKUP(AB12,{0,1},{"0","1"}) -> 0 | AD12: =G12+I12+#REF!+#REF!+T12+V12+AA12+AC12 -> #REF!
A13: СОШ с.Широкий Лог | B13: 16 | H13: 0 | I13: =LOOKUP(H13,{0,1,2,3,4},{"0","1","2","3","4"}) -> 0 | K13: =LOOKUP(J13,{0,1},{"0","1"}) -> 0 | M13: =LOOKUP(L13,{0,1},{"0","1"}) -> 0 | O13: =LOOKUP(N13,{0,1},{"0","1"}) -> 0 | P13: 1 | R13: 1 | T13: =LOOKUP(S13,{0,1,6,16,26,41,61,81},{"0","1","2","3","4","5","6","7"}) -> 0 | V13: =LOOKUP(U13,{0,1,6,16,26,41,61,81},{"0","1","2","3","4","5","6","7"}) -> 0 | W13: 0 | X13: 0 | Y13: =LOOKUP(X13,{0,1,6,16,26,41,61,81},{"0","1","2","3","4","5","6","7"}) -> 0 | Z13: 0 | AA13: =LOOKUP(Z13,{0,1},{"0","1"}) -> 0 | AB13: 0 | AC13: =LOOKUP(AB13,{0,1},{"0","1"}) -> 0 | AD13: =G13+I13+#REF!+#REF!+T13+V13+AA13+AC13 -> #REF!
A14: ООШ с.Белогорка | B14: 38 | C14: 11 | D14: 1 | E14: 4 | F14: 5 | H14: 0 | I14: =LOOKUP(H14,{0,1,2,3,4},{"0","1","2","3","4"}) -> 0 | J14: 1 | K14: =LOOKUP(J14,{0,1},{"0","1"}) -> 1 | M14: =LOOKUP(L14,{0,1},{"0","1"}) -> 0 | O14: =LOOKUP(N14,{0,1},{"0","1"}) -> 0 | P14: 4 | T14: =LOOKUP(S14,{0,1,6,16,26,41,61,81},{"0","1","2","3","4","5","6","7"}) -> 0 | V14: =LOOKUP(U14,{0,1,6,16,26,41,61,81},{"0","1","2","3","4","5","6","7"}) -> 0 | W14: 3 | X14: 4.5 | Y14: =LOOKUP(X14,{0,1,6,16,26,41,61,81},{"0","1","2","3","4","5","6","7"}) -> 1 | Z14: 1 | AA14: =LOOKUP(Z14,{0,1},{"0","1"}) -> 1 | AB14: 0 | AC14: =LOOKUP(AB14,{0,1},{"0","1"}) -> 0 | AD14: =G14+I14+#REF!+#REF!+T14+V14+AA14+AC14 -> #REF!
A15: МОАУ СОШ с.Томское | B15: 408 | C15: 44 | D15: 3 | E15: 9 | F15: 12 | H15: 5 | I15: 6 | J15: 4 | K15: =LOOKUP(J15,{0,1},{"0","1"}) -> 1 | L15: 1 | M15: =LOOKUP(L15,{0,1},{"0","1"}) -> 1 | O15: =LOOKUP(N15,{0,1},{"0","1"}) -> 0 | P15: 25 | Q15: 1 | R15: 6 | T15: =LOOKUP(S15,{0,1,6,16,26,41,61,81},{"0","1","2","3","4","5","6","7"}) -> 0 | V15: =LOOKUP(U15,{0,1,6,16,26,41,61,81},{"0","1","2","3","4","5","6","7"}) -> 0 | W15: 8 | X15: 11.3 | Y15: =LOOKUP(X15,{0,1,6,16,26,41,61,81},{"0","1","2","3","4","5","6","7"}) -> 2 | Z15: 1 | AA15: =LOOKUP(Z15,{0,1},{"0","1"}) -> 1 | AB15: 1 | AC15: =LOOKUP(AB15,{0,1},{"0","1"}) -> 1 | AD15: =G15+I15+#REF!+#REF!+T15+V15+AA15+AC15 -> #REF!
A16: СОШ с.Фроловка | B16: 24 | H16: 0 | I16: =LOOKUP(H16,{0,1,2,3,4},{"0","1","2","3","4"}) -> 0 | K16: =LOOKUP(J16,{0,1},{"0","1"}) -> 0 | M16: =LOOKUP(L16,{0,1},{"0","1"}) -> 0 | O16: =LOOKUP(N16,{0,1},{"0","1"}) -> 0 | P16: 0 | T16: =LOOKUP(S16,{0,1,6,16,26,41,61,81},{"0","1","2","3","4","5","6","7"}) -> 0 | V16: =LOOKUP(U16,{0,1,6,16,26,41,61,81},{"0","1","2","3","4","5","6","7"}) -> 0 | W16: 0 | X16: 0 | Y16: =LOOKUP(X16,{0,1,6,16,26,41,61,81},{"0","1","2","3","4","5","6","7"}) -> 0 | Z16: 0 | AA16: =LOOKUP(Z16,{0,1},{"0","1"}) -> 0 | AB16: 0 | AC16: =LOOKUP(AB16,{0,1},{"0","1"}) -> 0 | AD16: =G16+I16+#REF!+#REF!+T16+V16+AA16+AC16 -> #REF!
A17: ООШ с.Лебяжье | B17: 31 | H17: 0 | I17: =LOOKUP(H17,{0,1,2,3,4},{"0","1","2","3","4"}) -> 0 | K17: =LOOKUP(J17,{0,1},{"0","1"}) -> 0 | M17: =LOOKUP(L17,{0,1},{"0","1"}) -> 0 | O17: =LOOKUP(N17,{0,1},{"0","1"}) -> 0 | P17: 0 | T17: =LOOKUP(S17,{0,1,6,16,26,41,61,81},{"0","1","2","3","4","5","6","7"}) -> 0 | V17: =LOOKUP(U17,{0,1,6,16,26,41,61,81},{"0","1","2","3","4","5","6","7"}) -> 0 | W17: 3 | X17: 2.2 | Y17: =LOOKUP(X17,{0,1,6,16,26,41,61,81},{"0","1","2","3","4","5","6","7"}) -> 1 | Z17: 1 | AA17: =LOOKUP(Z17,{0,1},{"0","1"}) -> 1 | AB17: 0 | AC17: =LOOKUP(AB17,{0,1},{"0","1"}) -> 0 | AD17: =G17+I17+#REF!+#REF!+T17+V17+AA17+AC17 -> #REF!
A18: МОАУ СОШ с.Озерное | B18: 102 | C18: 18 | D18: 1 | E18: 4 | F18: 5 | H18: 0 | I18: =LOOKUP(H18,{0,1,2,3,4},{"0","1","2","3","4"}) -> 0 | K18: =LOOKUP(J18,{0,1},{"0","1"}) -> 0 | M18: =LOOKUP(L18,{0,1},{"0","1"}) -> 0 | N18: 2 | O18: =LOOKUP(N18,{0,1},{"0","1"}) -> 1 | P18: 10 | R18: 1 | T18: =LOOKUP(S18,{0,1,6,16,26,41,61,81},{"0","1","2","3","4","5","6","7"}) -> 0 | V18: =LOOKUP(U18,{0,1,6,16,26,41,61,81},{"0","1","2","3","4","5","6","7"}) -> 0 | W18: 0 | X18: 0 | Y18: =LOOKUP(X18,{0,1,6,16,26,41,61,81},{"0","1","2","3","4","5","6","7"}) -> 0 | Z18: 0 | AA18: =LOOKUP(Z18,{0,1},{"0","1"}) -> 0 | AB18: 0 | AC18: =LOOKUP(AB18,{0,1},{"0","1"}) -> 0 | AD18: =G18+I18+#REF!+#REF!+T18+V18+AA18+AC18 -> #REF!
A19: ООШ ст.Арга | B19: 86 | C19: 3 | H19: 0 | I19: =LOOKUP(H19,{0,1,2,3,4},{"0","1","2","3","4"}) -> 0 | K19: =LOOKUP(J19,{0,1},{"0","1"}) -> 0 | M19: =LOOKUP(L19,{0,1},{"0","1"}) -> 0 | O19: =LOOKUP(N19,{0,1},{"0","1"}) -> 0 | P19: 9 | R19: 3 | T19: =LOOKUP(S19,{0,1,6,16,26,41,61,81},{"0","1","2","3","4","5","6","7"}) -> 0 | V19: =LOOKUP(U19,{0,1,6,16,26,41,61,81},{"0","1","2","3","4","5","6","7"}) -> 0 | W19: 0 | X19: 0 | Y19: =LOOKUP(X19,{0,1,6,16,26,41,61,81},{"0","1","2","3","4","5","6","7"}) -> 0 | Z19: 0 | AA19: =LOOKUP(Z19,{0,1},{"0","1"}) -> 0 | AB19: 0 | AC19: =LOOKUP(AB19,{0,1},{"0","1"}) -> 0 | AD19: =G19+I19+#REF!+#REF!+T19+V19+AA19+AC19 -> #REF!
A20: МОАУ СОШ с.Большая Сазанка | B20: 84 | C20: 9 | E20: 3 | F20: 3 | H20: 0 | I20: =LOOKUP(H20,{0,1,2,3,4},{"0","1","2","3","4"}) -> 0 | K20: =LOOKUP(J20,{0,1},{"0","1"}) -> 0 | M20: =LOOKUP(L20,{0,1},{"0","1"}) -> 0 | O20: =LOOKUP(N20,{0,1},{"0","1"}) -> 0 | P20: 3 | R20: 1 | T20: =LOOKUP(S20,{0,1,6,16,26,41,61,81},{"0","1","2","3","4","5","6","7"}) -> 0 | V20: =LOOKUP(U20,{0,1,6,16,26,41,61,81},{"0","1","2","3","4","5","6","7"}) -> 0 | W20: 0 | X20: 0 | Y20: =LOOKUP(X20,{0,1,6,16,26,41,61,81},{"0","1","2","3","4","5","6","7"}) -> 0 | Z20: 0 | AA20: =LOOKUP(Z20,{0,1},{"0","1"}) -> 0 | AB20: 0 | AC20: =LOOKUP(AB20,{0,1},{"0","1"}) -> 0 | AD20: =G20+I20+#REF!+#REF!+T20+V20+AA20+AC20 -> #REF!
A21: МОАУ СОШ с.Сосновка | B21: 89 | C21: 25 | D21: 3 | E21: 9 | F21: 12 | H21: 2 | I21: 0 | J21: 2 | K21: =LOOKUP(J21,{0,1},{"0","1"}) -> 1 | M21: =LOOKUP(L21,{0,1},{"0","1"}) -> 0 | O21: =LOOKUP(N21,{0,1},{"0","1"}) -> 0 | P21: 10 | T21: =LOOKUP(S21,{0,1,6,16,26,41,61,81},{"0","1","2","3","4","5","6","7"}) -> 0 | V21: =LOOKUP(U21,{0,1,6,16,26,41,61,81},{"0","1","2","3","4","5","6","7"}) -> 0 | W21: 3 | X21: 6.8 | Y21: =LOOKUP(X21,{0,1,6,16,26,41,61,81},{"0","1","2","3","4","5","6","7"}) -> 2 | Z21: 1 | AA21: =LOOKUP(Z21,{0,1},{"0","1"}) -> 1 | AB21: 1 | AC21: =LOOKUP(AB21,{0,1},{"0","1"}) -> 1 | AD21: =G21+I21+#REF!+#REF!+T21+V21+AA21+AC21 -> #REF!
A22: ИТОГО | B22: 2593 | C22: 400 | D22: 35 | E22: 104 | F22: 139 | H22: 49 | I22: два места | J22: 31 премия, 25 человек | L22: 2 | N22: 4 | P22: 124 | Q22: 13 | R22: 43
H23: 1 отказ

Sheet РЕЙТИНГ
A1: Итоговый результат
A2: Наименование ОО | B2: кол-во баллов | C2: место в рейтинге
A3: МАОУ СОШ № 1 пгт Серышево | B3: =Кадры!AP4+'Мониторинг участия'!AD5 -> #REF! | C3: =RANK(B3,$B$3:$B$19) -> #REF!
A4: СОШ с.Украинка | B4: =Кадры!AP5+'Мониторинг участия'!AD6 -> #REF! | C4: =RANK(B4,$B$3:$B$19) -> #REF!
A5: ООШ с.Поляна | B5: =Кадры!AP6+'Мониторинг участия'!AD7 -> #REF! | C5: =RANK(B5,$B$3:$B$19) -> #REF!
A6: ООШ с.Белоногово | B6: =Кадры!AP7+'Мониторинг участия'!AD8 -> #REF! | C6: =RANK(B6,$B$3:$B$19) -> #REF!
A7: МАОУ СОШ № 2 пгт Серышево | B7: =Кадры!AP8+'Мониторинг участия'!AD9 -> #REF! | C7: =RANK(B7,$B$3:$B$19) -> #REF!
A8: СОШ с.Казанка | B8: =Кадры!AP9+'Мониторинг участия'!AD10 -> #REF! | C8: =RANK(B8,$B$3:$B$19) -> #REF!
A9: СОШ с.Лермонтово | B9: =Кадры!AP10+'Мониторинг участия'!AD11 -> #REF! | C9: =RANK(B9,$B$3:$B$19) -> #REF!
A10: МОАУ СОШ с.Новосергеевка | B10: =Кадры!AP11+'Мониторинг участия'!AD12 -> #REF! | C10: =RANK(B10,$B$3:$B$19) -> #REF!
A11: СОШ с.Широкий Лог | B11: =Кадры!AP12+'Мониторинг участия'!AD13 -> #REF! | C11: =RANK(B11,$B$3:$B$19) -> #REF!
A12: ООШ с.Белогорка | B12: =Кадры!AP13+'Мониторинг участия'!AD14 -> #REF! | C12: =RANK(B12,$B$3:$B$19) -> #REF!
A13: МОАУ СОШ с.Томское | B13: =Кадры!AP14+'Мониторинг участия'!AD15 -> #REF! | C13: =RANK(B13,$B$3:$B$19) -> #REF!
A14: СОШ с.Фроловка | B14: =Кадры!AP15+'Мониторинг участия'!AD16 -> #REF! | C14: =RANK(B14,$B$3:$B$19) -> #REF!
... A19: МОАУ СОШ с.Сосновка | B19: =Кадры!AP20+'Мониторинг участия'!AD21 -> #REF! | C19: =RANK(B19,$B$3:$B$19) -> #REF!
